BEGIN:VCALENDAR
VERSION:2.0
PRODID:-//Prevent Drowning Foundation of San Diego - ECPv6.15.20//NONSGML v1.0//EN
CALSCALE:GREGORIAN
METHOD:PUBLISH
X-WR-CALNAME:Prevent Drowning Foundation of San Diego
X-ORIGINAL-URL:https://preventdrowningfoundation.org
X-WR-CALDESC:Events for Prevent Drowning Foundation of San Diego
REFRESH-INTERVAL;VALUE=DURATION:PT1H
X-Robots-Tag:noindex
X-PUBLISHED-TTL:PT1H
BEGIN:VTIMEZONE
TZID:America/Los_Angeles
BEGIN:DAYLIGHT
TZOFFSETFROM:-0800
TZOFFSETTO:-0700
TZNAME:PDT
DTSTART:20220313T100000
END:DAYLIGHT
BEGIN:STANDARD
TZOFFSETFROM:-0700
TZOFFSETTO:-0800
TZNAME:PST
DTSTART:20221106T090000
END:STANDARD
BEGIN:DAYLIGHT
TZOFFSETFROM:-0800
TZOFFSETTO:-0700
TZNAME:PDT
DTSTART:20230312T100000
END:DAYLIGHT
BEGIN:STANDARD
TZOFFSETFROM:-0700
TZOFFSETTO:-0800
TZNAME:PST
DTSTART:20231105T090000
END:STANDARD
BEGIN:DAYLIGHT
TZOFFSETFROM:-0800
TZOFFSETTO:-0700
TZNAME:PDT
DTSTART:20240310T100000
END:DAYLIGHT
BEGIN:STANDARD
TZOFFSETFROM:-0700
TZOFFSETTO:-0800
TZNAME:PST
DTSTART:20241103T090000
END:STANDARD
END:VTIMEZONE
BEGIN:VEVENT
DTSTART;VALUE=DATE:20231201
DTEND;VALUE=DATE:20231202
DTSTAMP:20260421T140003
CREATED:20231122T172600Z
LAST-MODIFIED:20231127T201635Z
UID:888-1701388800-1701475199@preventdrowningfoundation.org
SUMMARY:Priority Deadline SD Swims grant program application
DESCRIPTION:Priority Deadline SD Swims grant program application
URL:https://preventdrowningfoundation.org/event/priority-deadline-sd-swims-grant-program-application/
CATEGORIES:Grants
ATTACH;FMTTYPE=image/jpeg:https://preventdrowningfoundation.org/wp-content/uploads/2023/11/sd-swims-grant-program.jpg
END:VEVENT
BEGIN:VEVENT
DTSTART;VALUE=DATE:20231122
DTEND;VALUE=DATE:20231202
DTSTAMP:20260421T140003
CREATED:20231122T172856Z
LAST-MODIFIED:20231127T201659Z
UID:892-1700611200-1701475199@preventdrowningfoundation.org
SUMMARY:Winter Swim Lessons at MLK Jr. Pool
DESCRIPTION:Register at (619) 527-3451
URL:https://preventdrowningfoundation.org/event/winter-swim-lessons-at-mlk-jr-pool/
CATEGORIES:Swim Lessons
ATTACH;FMTTYPE=image/png:https://preventdrowningfoundation.org/wp-content/uploads/2023/11/fall-winter-swim-lessons.png
END:VEVENT
END:VCALENDAR