BEGIN:VCALENDAR
VERSION:2.0
PRODID:-//Prevent Drowning Foundation of San Diego - ECPv6.15.20//NONSGML v1.0//EN
CALSCALE:GREGORIAN
METHOD:PUBLISH
X-WR-CALNAME:Prevent Drowning Foundation of San Diego
X-ORIGINAL-URL:https://preventdrowningfoundation.org
X-WR-CALDESC:Events for Prevent Drowning Foundation of San Diego
REFRESH-INTERVAL;VALUE=DURATION:PT1H
X-Robots-Tag:noindex
X-PUBLISHED-TTL:PT1H
BEGIN:VTIMEZONE
TZID:America/Los_Angeles
BEGIN:DAYLIGHT
TZOFFSETFROM:-0800
TZOFFSETTO:-0700
TZNAME:PDT
DTSTART:20220313T100000
END:DAYLIGHT
BEGIN:STANDARD
TZOFFSETFROM:-0700
TZOFFSETTO:-0800
TZNAME:PST
DTSTART:20221106T090000
END:STANDARD
BEGIN:DAYLIGHT
TZOFFSETFROM:-0800
TZOFFSETTO:-0700
TZNAME:PDT
DTSTART:20230312T100000
END:DAYLIGHT
BEGIN:STANDARD
TZOFFSETFROM:-0700
TZOFFSETTO:-0800
TZNAME:PST
DTSTART:20231105T090000
END:STANDARD
BEGIN:DAYLIGHT
TZOFFSETFROM:-0800
TZOFFSETTO:-0700
TZNAME:PDT
DTSTART:20240310T100000
END:DAYLIGHT
BEGIN:STANDARD
TZOFFSETFROM:-0700
TZOFFSETTO:-0800
TZNAME:PST
DTSTART:20241103T090000
END:STANDARD
BEGIN:DAYLIGHT
TZOFFSETFROM:-0800
TZOFFSETTO:-0700
TZNAME:PDT
DTSTART:20250309T100000
END:DAYLIGHT
BEGIN:STANDARD
TZOFFSETFROM:-0700
TZOFFSETTO:-0800
TZNAME:PST
DTSTART:20251102T090000
END:STANDARD
END:VTIMEZONE
BEGIN:VEVENT
DTSTART;TZID=America/Los_Angeles:20240517T080000
DTEND;TZID=America/Los_Angeles:20240517T170000
DTSTAMP:20260420T123024
CREATED:20240124T034350Z
LAST-MODIFIED:20240124T034350Z
UID:997-1715932800-1715965200@preventdrowningfoundation.org
SUMMARY:Wear Your LifeJacket To Work Day
DESCRIPTION:
URL:https://preventdrowningfoundation.org/event/wear-your-lifejacket-to-work-day/
CATEGORIES:Water Safety Event
ATTACH;FMTTYPE=image/jpeg:https://preventdrowningfoundation.org/wp-content/uploads/2024/01/screenshot-2024-01-23-at-7.42.24 pm.jpg
END:VEVENT
BEGIN:VEVENT
DTSTART;VALUE=DATE:20240515
DTEND;VALUE=DATE:20240516
DTSTAMP:20260420T123024
CREATED:20240124T034114Z
LAST-MODIFIED:20240124T034114Z
UID:994-1715731200-1715817599@preventdrowningfoundation.org
SUMMARY:International Water Safety Day
DESCRIPTION:May 15 is International Water Safety Day. It’s a day designated to spread global awareness of the drowning pandemic and to educate youth in becoming safer in and around the water. On this day\, activities are happening in local communities to share drowning awareness and water safety education\, including in schools\, on swim teams\, and more.
URL:https://preventdrowningfoundation.org/event/international-water-safety-day/
CATEGORIES:Water Safety Event
ATTACH;FMTTYPE=image/jpeg:https://preventdrowningfoundation.org/wp-content/uploads/2024/01/screenshot-2024-01-23-at-7.39.31 pm.jpg
END:VEVENT
BEGIN:VEVENT
DTSTART;VALUE=DATE:20240501
DTEND;VALUE=DATE:20240601
DTSTAMP:20260420T123024
CREATED:20240124T024739Z
LAST-MODIFIED:20240124T024833Z
UID:989-1714521600-1717199999@preventdrowningfoundation.org
SUMMARY:Drowning Prevention Month
DESCRIPTION:May is Drowning Prevention Month! Join us by spreading the word and sharing tips on how to be water safe EVERYDAY! #preventdrowning
URL:https://preventdrowningfoundation.org/event/drowning-prevention-month/
CATEGORIES:Water Safety Event
ATTACH;FMTTYPE=image/jpeg:https://preventdrowningfoundation.org/wp-content/uploads/2024/01/istock-973047398-e1706064440222.jpg
END:VEVENT
BEGIN:VEVENT
DTSTART;VALUE=DATE:20240501
DTEND;VALUE=DATE:20240502
DTSTAMP:20260420T123024
CREATED:20240124T025315Z
LAST-MODIFIED:20240124T025315Z
UID:992-1714521600-1714607999@preventdrowningfoundation.org
SUMMARY:SD Swim Grant Applications Due Summer 2024
DESCRIPTION:SD Swims grant application deadline for summer 2024 \nDetails at: https://preventdrowningfoundation.org/blog/pdfsd-sd-swims-grant-application-process/
URL:https://preventdrowningfoundation.org/event/sd-swim-grant-applications-due-summer-2024/
CATEGORIES:Grants
ATTACH;FMTTYPE=image/jpeg:https://preventdrowningfoundation.org/wp-content/uploads/2023/11/sd-swims-grant-program.jpg
END:VEVENT
BEGIN:VEVENT
DTSTART;VALUE=DATE:20240416
DTEND;VALUE=DATE:20240418
DTSTAMP:20260420T123024
CREATED:20240124T024052Z
LAST-MODIFIED:20240124T024213Z
UID:984-1713225600-1713398399@preventdrowningfoundation.org
SUMMARY:2024 CA Water Safety Summit
DESCRIPTION:The 2024 California Water Safety Summit is a forum for collaboration on practices\, programs\, and policies that reduce drowning and aquatic injuries. Join us April 16 – 17th! #CAwatersafety \nDetails and Registration
URL:https://preventdrowningfoundation.org/event/2024-ca-water-safety-summit/
LOCATION:Jesse Turner Conference Center
CATEGORIES:Conference
ATTACH;FMTTYPE=image/jpeg:https://preventdrowningfoundation.org/wp-content/uploads/2024/01/screenshot-2024-01-23-at-6.37.19 pm-e1706064036585.jpg
END:VEVENT
BEGIN:VEVENT
DTSTART;VALUE=DATE:20240212
DTEND;VALUE=DATE:20240216
DTSTAMP:20260420T123024
CREATED:20231122T173045Z
LAST-MODIFIED:20231127T201551Z
UID:896-1707696000-1708041599@preventdrowningfoundation.org
SUMMARY:National Water Safety Conference
DESCRIPTION:Reno Nevada
URL:https://preventdrowningfoundation.org/event/national-water-safety-conference/
CATEGORIES:Conference
ATTACH;FMTTYPE=image/png:https://preventdrowningfoundation.org/wp-content/uploads/2023/11/national-water-safety-conference.png
END:VEVENT
BEGIN:VEVENT
DTSTART;VALUE=DATE:20231201
DTEND;VALUE=DATE:20231202
DTSTAMP:20260420T123024
CREATED:20231122T172600Z
LAST-MODIFIED:20231127T201635Z
UID:888-1701388800-1701475199@preventdrowningfoundation.org
SUMMARY:Priority Deadline SD Swims grant program application
DESCRIPTION:Priority Deadline SD Swims grant program application
URL:https://preventdrowningfoundation.org/event/priority-deadline-sd-swims-grant-program-application/
CATEGORIES:Grants
ATTACH;FMTTYPE=image/jpeg:https://preventdrowningfoundation.org/wp-content/uploads/2023/11/sd-swims-grant-program.jpg
END:VEVENT
BEGIN:VEVENT
DTSTART;VALUE=DATE:20231122
DTEND;VALUE=DATE:20231202
DTSTAMP:20260420T123024
CREATED:20231122T172856Z
LAST-MODIFIED:20231127T201659Z
UID:892-1700611200-1701475199@preventdrowningfoundation.org
SUMMARY:Winter Swim Lessons at MLK Jr. Pool
DESCRIPTION:Register at (619) 527-3451
URL:https://preventdrowningfoundation.org/event/winter-swim-lessons-at-mlk-jr-pool/
CATEGORIES:Swim Lessons
ATTACH;FMTTYPE=image/png:https://preventdrowningfoundation.org/wp-content/uploads/2023/11/fall-winter-swim-lessons.png
END:VEVENT
END:VCALENDAR