BEGIN:VCALENDAR
VERSION:2.0
PRODID:-//Prevent Drowning Foundation of San Diego - ECPv6.15.20//NONSGML v1.0//EN
CALSCALE:GREGORIAN
METHOD:PUBLISH
X-ORIGINAL-URL:https://preventdrowningfoundation.org
X-WR-CALDESC:Events for Prevent Drowning Foundation of San Diego
REFRESH-INTERVAL;VALUE=DURATION:PT1H
X-Robots-Tag:noindex
X-PUBLISHED-TTL:PT1H
BEGIN:VTIMEZONE
TZID:America/Los_Angeles
BEGIN:DAYLIGHT
TZOFFSETFROM:-0800
TZOFFSETTO:-0700
TZNAME:PDT
DTSTART:20230312T100000
END:DAYLIGHT
BEGIN:STANDARD
TZOFFSETFROM:-0700
TZOFFSETTO:-0800
TZNAME:PST
DTSTART:20231105T090000
END:STANDARD
BEGIN:DAYLIGHT
TZOFFSETFROM:-0800
TZOFFSETTO:-0700
TZNAME:PDT
DTSTART:20240310T100000
END:DAYLIGHT
BEGIN:STANDARD
TZOFFSETFROM:-0700
TZOFFSETTO:-0800
TZNAME:PST
DTSTART:20241103T090000
END:STANDARD
BEGIN:DAYLIGHT
TZOFFSETFROM:-0800
TZOFFSETTO:-0700
TZNAME:PDT
DTSTART:20250309T100000
END:DAYLIGHT
BEGIN:STANDARD
TZOFFSETFROM:-0700
TZOFFSETTO:-0800
TZNAME:PST
DTSTART:20251102T090000
END:STANDARD
BEGIN:DAYLIGHT
TZOFFSETFROM:-0800
TZOFFSETTO:-0700
TZNAME:PDT
DTSTART:20260308T100000
END:DAYLIGHT
BEGIN:STANDARD
TZOFFSETFROM:-0700
TZOFFSETTO:-0800
TZNAME:PST
DTSTART:20261101T090000
END:STANDARD
BEGIN:DAYLIGHT
TZOFFSETFROM:-0800
TZOFFSETTO:-0700
TZNAME:PDT
DTSTART:20270314T100000
END:DAYLIGHT
BEGIN:STANDARD
TZOFFSETFROM:-0700
TZOFFSETTO:-0800
TZNAME:PST
DTSTART:20271107T090000
END:STANDARD
END:VTIMEZONE
BEGIN:VEVENT
DTSTART;VALUE=DATE:20240908
DTEND;VALUE=DATE:20240909
DTSTAMP:20260422T145435
CREATED:20240605T183613Z
LAST-MODIFIED:20240605T183724Z
UID:1125-1725753600-1725839999@preventdrowningfoundation.org
SUMMARY:The La Jolla Cove Swim
DESCRIPTION:The La Jolla Cove Swim is an annual event\, sponsored by the Kiwanis Club of La Jolla. All proceeds from event will fund swimming lessons for historically underserved communities with the goal that all San Diegans can enjoy our beautiful bay and beaches safely.
URL:https://preventdrowningfoundation.org/event/the-la-jolla-cove-swim/
ATTACH;FMTTYPE=image/jpeg:https://preventdrowningfoundation.org/wp-content/uploads/2024/06/screenshot-2024-06-05-at-11.33.44 am.jpg
END:VEVENT
BEGIN:VEVENT
DTSTART;VALUE=DATE:20240921
DTEND;VALUE=DATE:20240923
DTSTAMP:20260422T145435
CREATED:20240605T003613Z
LAST-MODIFIED:20240821T133920Z
UID:1096-1726876800-1727049599@preventdrowningfoundation.org
SUMMARY:Swim 24 Challenge
DESCRIPTION:We regret to inform you that the Swim 24Challenge\, originally scheduled for Sept 21-22\, 2024\, has been postponed to fall of 2025. Again\, thank you for your continued support and enthusiasm for the Swim 24Challenge. We look forward to seeing you in 2025 for an unforgettable experience! Please email swim24@preventdrowningfoundation.org for any event questions or volunteer opportunities.\n\n  \nWe’re thrilled to announce the return of the 7th annual Swim 24Challenge Fundraiser! After a hiatus\, we’re back and ready to ignite some friendly competition and help save lives! Swim 24Challenge is an unforgettable swimming experience where teams of up to 12 people swim a 24-hour relay to raise money to combat childhood drowning. Each team must have a swimmer in the water for the entire 24 hours. People of all ages and abilities are welcomed to take part in the challenge. Each team is asked to raise a minimum of $1\,200 to participate in the event. For a team of 12 people\, this equates to $100 per swimmer minimum. Swimmers feel an incredible sense of accomplishment while participating in this unique\, team-building event. Proceeds from Swim 24Challenge will benefit the Prevent Drowning Foundation of San Diego (PDFSD).
URL:https://preventdrowningfoundation.org/event/swim-24-challenge/
LOCATION:Standley Swanson Aquatic Complex\, 3605 Governor Dr\, San Diego\, San Diego\, CA\, 92122\, United States
CATEGORIES:Fundraising
ATTACH;FMTTYPE=image/jpeg:https://preventdrowningfoundation.org/wp-content/uploads/2024/06/img_6750.jpeg
END:VEVENT
BEGIN:VEVENT
DTSTART;TZID=America/Los_Angeles:20240921T080000
DTEND;TZID=America/Los_Angeles:20240921T170000
DTSTAMP:20260422T145435
CREATED:20240605T184546Z
LAST-MODIFIED:20240605T184546Z
UID:1130-1726905600-1726938000@preventdrowningfoundation.org
SUMMARY:OMBAC Classic Longboard Surfing Contest
DESCRIPTION:The Old Mission Beach Athletic Club Presents the \n30th Annual OMBAC Classic Longboard Surfing Contest \nSaturday September 21st\, 2024 \nNorth Side of Crystal Pier\, Pacific Beach\, San Diego\, CA
URL:https://preventdrowningfoundation.org/event/ombac-classic-longboard-surfing-contest/
CATEGORIES:Fundraising
ATTACH;FMTTYPE=image/jpeg:https://preventdrowningfoundation.org/wp-content/uploads/2024/06/screenshot-2024-06-05-at-11.44.34 am.jpg
END:VEVENT
BEGIN:VEVENT
DTSTART;VALUE=DATE:20240929
DTEND;VALUE=DATE:20240930
DTSTAMP:20260422T145435
CREATED:20240605T183300Z
LAST-MODIFIED:20240605T183811Z
UID:1120-1727568000-1727654399@preventdrowningfoundation.org
SUMMARY:La Jolla Cove 10 Mile Relay
DESCRIPTION:The La Jolla Cove 10 Mile Relay is one of the most anticipated and enjoyable open water swim events of the year.Organize a team of up to 5 swimmers (or swim it solo)\, give your team a cool name\, and enjoy the camaraderie of fellow swimmers and the spirit of swimming with this unique event and charity fundraiser.
URL:https://preventdrowningfoundation.org/event/la-jolla-cove-10-mile-relay/
CATEGORIES:Fundraising
ATTACH;FMTTYPE=image/jpeg:https://preventdrowningfoundation.org/wp-content/uploads/2024/06/screenshot-2024-06-05-at-11.31.33 am.jpg
END:VEVENT
BEGIN:VEVENT
DTSTART;TZID=America/Los_Angeles:20250203T080000
DTEND;TZID=America/Los_Angeles:20250206T170000
DTSTAMP:20260422T145435
CREATED:20250204T232806Z
LAST-MODIFIED:20250205T002037Z
UID:1260-1738569600-1738861200@preventdrowningfoundation.org
SUMMARY:National Drowning Safety Conference
DESCRIPTION:
URL:https://preventdrowningfoundation.org/event/national-drowning-safety-conference/
CATEGORIES:Conference,Water Safety Event
ATTACH;FMTTYPE=image/jpeg:https://preventdrowningfoundation.org/wp-content/uploads/2025/02/ndpa.jpg
END:VEVENT
BEGIN:VEVENT
DTSTART;TZID=America/Los_Angeles:20250304T080000
DTEND;TZID=America/Los_Angeles:20250305T170000
DTSTAMP:20260422T145435
CREATED:20250204T233735Z
LAST-MODIFIED:20250205T002000Z
UID:1265-1741075200-1741194000@preventdrowningfoundation.org
SUMMARY:CA Water Safety Summit
DESCRIPTION:
URL:https://preventdrowningfoundation.org/event/ca-water-safety-summit/
CATEGORIES:Conference,Water Safety Event
ATTACH;FMTTYPE=image/jpeg:https://preventdrowningfoundation.org/wp-content/uploads/2025/02/untitled-1.jpg
END:VEVENT
BEGIN:VEVENT
DTSTART;TZID=America/Los_Angeles:20250501T080000
DTEND;TZID=America/Los_Angeles:20250501T170000
DTSTAMP:20260422T145435
CREATED:20250204T233958Z
LAST-MODIFIED:20250205T001938Z
UID:1268-1746086400-1746118800@preventdrowningfoundation.org
SUMMARY:SD Swims Grant Application Deadline For Summer 2025
DESCRIPTION:
URL:https://preventdrowningfoundation.org/event/sd-swims-grant-application-deadline-for-summer-2025/
CATEGORIES:Grants
ATTACH;FMTTYPE=image/jpeg:https://preventdrowningfoundation.org/wp-content/uploads/2025/02/unnamed-1-e1738714771525.jpg
END:VEVENT
BEGIN:VEVENT
DTSTART;TZID=America/Los_Angeles:20250501T080000
DTEND;TZID=America/Los_Angeles:20250531T170000
DTSTAMP:20260422T145435
CREATED:20250204T234132Z
LAST-MODIFIED:20250205T002316Z
UID:1271-1746086400-1748710800@preventdrowningfoundation.org
SUMMARY:Drowning Prevention Month
DESCRIPTION:
URL:https://preventdrowningfoundation.org/event/drowning-prevention-month-2/
CATEGORIES:Water Safety Event
ATTACH;FMTTYPE=image/png:https://preventdrowningfoundation.org/wp-content/uploads/2025/02/sdswimsafer-logo-vert-e1738714990427.png
END:VEVENT
BEGIN:VEVENT
DTSTART;TZID=America/Los_Angeles:20250515T080000
DTEND;TZID=America/Los_Angeles:20250515T170000
DTSTAMP:20260422T145435
CREATED:20250205T000051Z
LAST-MODIFIED:20250205T000051Z
UID:1284-1747296000-1747328400@preventdrowningfoundation.org
SUMMARY:International Water Safety Day
DESCRIPTION:
URL:https://preventdrowningfoundation.org/event/international-water-safety-day-2/
CATEGORIES:Water Safety Event
ATTACH;FMTTYPE=image/jpeg:https://preventdrowningfoundation.org/wp-content/uploads/2024/01/screenshot-2024-01-23-at-7.39.31 pm.jpg
END:VEVENT
BEGIN:VEVENT
DTSTART;TZID=America/Los_Angeles:20250516T080000
DTEND;TZID=America/Los_Angeles:20250516T170000
DTSTAMP:20260422T145435
CREATED:20250204T235310Z
LAST-MODIFIED:20250205T002225Z
UID:1278-1747382400-1747414800@preventdrowningfoundation.org
SUMMARY:Wear Your Life Jacket To Work Day
DESCRIPTION:
URL:https://preventdrowningfoundation.org/event/wear-your-life-jacket-to-work-day/
CATEGORIES:Water Safety Event
ATTACH;FMTTYPE=image/jpeg:https://preventdrowningfoundation.org/wp-content/uploads/2025/02/1200x675-2-e1738714936603.jpg
END:VEVENT
BEGIN:VEVENT
DTSTART;TZID=America/Los_Angeles:20250626T080000
DTEND;TZID=America/Los_Angeles:20250626T170000
DTSTAMP:20260422T145435
CREATED:20250204T234845Z
LAST-MODIFIED:20250205T001705Z
UID:1275-1750924800-1750957200@preventdrowningfoundation.org
SUMMARY:The Worlds Largest Swim Lesson
DESCRIPTION:
URL:https://preventdrowningfoundation.org/event/the-worlds-largest-swim-lesson/
CATEGORIES:Swim Lessons,Water Safety Event
ATTACH;FMTTYPE=image/jpeg:https://preventdrowningfoundation.org/wp-content/uploads/2025/02/untitled-2.jpg
END:VEVENT
BEGIN:VEVENT
DTSTART;TZID=America/Los_Angeles:20250725T080000
DTEND;TZID=America/Los_Angeles:20250725T170000
DTSTAMP:20260422T145435
CREATED:20250204T235729Z
LAST-MODIFIED:20250205T001643Z
UID:1281-1753430400-1753462800@preventdrowningfoundation.org
SUMMARY:World Drowning Prevention Day
DESCRIPTION:
URL:https://preventdrowningfoundation.org/event/world-drowning-prevention-day-2/
CATEGORIES:Water Safety Event
ATTACH;FMTTYPE=image/jpeg:https://preventdrowningfoundation.org/wp-content/uploads/2025/02/1200x675-5-e1738714572465.jpg
END:VEVENT
BEGIN:VEVENT
DTSTART;TZID=America/Los_Angeles:20250907T080000
DTEND;TZID=America/Los_Angeles:20250907T170000
DTSTAMP:20260422T145435
CREATED:20250205T000636Z
LAST-MODIFIED:20250205T001210Z
UID:1289-1757232000-1757264400@preventdrowningfoundation.org
SUMMARY:La Jolla Cove Swim / Kiwanis Club of La Jolla
DESCRIPTION:
URL:https://preventdrowningfoundation.org/event/la-jolla-cove-swim-kiwanis-club-of-la-jolla/
CATEGORIES:Fundraising
ATTACH;FMTTYPE=image/jpeg:https://preventdrowningfoundation.org/wp-content/uploads/2025/02/untitled-3.jpg
END:VEVENT
BEGIN:VEVENT
DTSTART;TZID=America/Los_Angeles:20250913T080000
DTEND;TZID=America/Los_Angeles:20250913T170000
DTSTAMP:20260422T145435
CREATED:20250205T000848Z
LAST-MODIFIED:20250205T001446Z
UID:1291-1757750400-1757782800@preventdrowningfoundation.org
SUMMARY:OMBAC Classic Longboard Surfing Contest
DESCRIPTION:
URL:https://preventdrowningfoundation.org/event/ombac-classic-longboard-surfing-contest-2/
CATEGORIES:Fundraising
ATTACH;FMTTYPE=image/jpeg:https://preventdrowningfoundation.org/wp-content/uploads/2024/06/screenshot-2024-06-05-at-11.44.34 am.jpg
END:VEVENT
BEGIN:VEVENT
DTSTART;TZID=America/Los_Angeles:20250928T080000
DTEND;TZID=America/Los_Angeles:20250928T170000
DTSTAMP:20260422T145435
CREATED:20250205T000245Z
LAST-MODIFIED:20250205T001420Z
UID:1286-1759046400-1759078800@preventdrowningfoundation.org
SUMMARY:La Jolla Cove 10 Mile Relay
DESCRIPTION:
URL:https://preventdrowningfoundation.org/event/la-jolla-cove-10-mile-relay-2/
CATEGORIES:Fundraising
ATTACH;FMTTYPE=image/jpeg:https://preventdrowningfoundation.org/wp-content/uploads/2025/02/untitled-2-1.jpg
END:VEVENT
BEGIN:VEVENT
DTSTART;VALUE=DATE:20260214
DTEND;VALUE=DATE:20260222
DTSTAMP:20260422T145435
CREATED:20260122T000052Z
LAST-MODIFIED:20260122T000052Z
UID:1627-1771027200-1771718399@preventdrowningfoundation.org
SUMMARY:International Aquatics & Water Safety Conference and Exposition 2026
DESCRIPTION:
URL:https://preventdrowningfoundation.org/event/international-aquatics-water-safety-conference-and-exposition-2026/
ATTACH;FMTTYPE=image/jpeg:https://preventdrowningfoundation.org/wp-content/uploads/2026/01/screenshot-2026-01-21-at-4.59.40-pm.jpg
END:VEVENT
BEGIN:VEVENT
DTSTART;VALUE=DATE:20260414
DTEND;VALUE=DATE:20260417
DTSTAMP:20260422T145435
CREATED:20260122T000318Z
LAST-MODIFIED:20260122T000318Z
UID:1630-1776124800-1776383999@preventdrowningfoundation.org
SUMMARY:CA Water Safety Summit 2026
DESCRIPTION:
URL:https://preventdrowningfoundation.org/event/ca-water-safety-summit-2026/
ATTACH;FMTTYPE=image/jpeg:https://preventdrowningfoundation.org/wp-content/uploads/2026/01/screenshot-2026-01-21-at-5.01.44-pm.jpg
END:VEVENT
BEGIN:VEVENT
DTSTART;VALUE=DATE:20260501
DTEND;VALUE=DATE:20260601
DTSTAMP:20260422T145435
CREATED:20260121T235642Z
LAST-MODIFIED:20260121T235642Z
UID:1623-1777593600-1780271999@preventdrowningfoundation.org
SUMMARY:Drowning Prevention Month
DESCRIPTION:
URL:https://preventdrowningfoundation.org/event/drowning-prevention-month-3/
CATEGORIES:Fundraising,Water Safety Event
ATTACH;FMTTYPE=image/jpeg:https://preventdrowningfoundation.org/wp-content/uploads/2023/12/life-ring-by-poolside-ladder.jpg
END:VEVENT
BEGIN:VEVENT
DTSTART;VALUE=DATE:20260515
DTEND;VALUE=DATE:20260516
DTSTAMP:20260422T145435
CREATED:20260121T234245Z
LAST-MODIFIED:20260121T234245Z
UID:1607-1778803200-1778889599@preventdrowningfoundation.org
SUMMARY:Wear Your LifeJacket To Work Day
DESCRIPTION:
URL:https://preventdrowningfoundation.org/event/wear-your-lifejacket-to-work-day-2/
ATTACH;FMTTYPE=image/jpeg:https://preventdrowningfoundation.org/wp-content/uploads/2025/02/1200x675-2-e1738714936603.jpg
END:VEVENT
BEGIN:VEVENT
DTSTART;VALUE=DATE:20260515
DTEND;VALUE=DATE:20260516
DTSTAMP:20260422T145435
CREATED:20260121T234651Z
LAST-MODIFIED:20260121T234651Z
UID:1612-1778803200-1778889599@preventdrowningfoundation.org
SUMMARY:International Water Safety Day
DESCRIPTION:
URL:https://preventdrowningfoundation.org/event/international-water-safety-day-3/
CATEGORIES:Water Safety Event
ATTACH;FMTTYPE=image/jpeg:https://preventdrowningfoundation.org/wp-content/uploads/2024/01/screenshot-2024-01-23-at-7.39.31 pm.jpg
END:VEVENT
BEGIN:VEVENT
DTSTART;VALUE=DATE:20260516
DTEND;VALUE=DATE:20260523
DTSTAMP:20260422T145435
CREATED:20260121T234532Z
LAST-MODIFIED:20260121T235002Z
UID:1610-1778889600-1779494399@preventdrowningfoundation.org
SUMMARY:Safe Boating Week May 16 - May 22\, 2026
DESCRIPTION:
URL:https://preventdrowningfoundation.org/event/safe-boating-week-may-16-may-22-2026/
CATEGORIES:Water Safety Event
ATTACH;FMTTYPE=image/png:https://preventdrowningfoundation.org/wp-content/uploads/2026/01/screenshot-2026-01-21-at-4.49.32-pm.png
END:VEVENT
BEGIN:VEVENT
DTSTART;VALUE=DATE:20260522
DTEND;VALUE=DATE:20260526
DTSTAMP:20260422T145435
CREATED:20260121T235824Z
LAST-MODIFIED:20260121T235824Z
UID:1625-1779408000-1779753599@preventdrowningfoundation.org
SUMMARY:WSI Blowout
DESCRIPTION:
URL:https://preventdrowningfoundation.org/event/wsi-blowout-2/
CATEGORIES:Water Safety Event
ATTACH;FMTTYPE=image/jpeg:https://preventdrowningfoundation.org/wp-content/uploads/2024/01/istock-1082139028.jpg
END:VEVENT
BEGIN:VEVENT
DTSTART;VALUE=DATE:20260625
DTEND;VALUE=DATE:20260626
DTSTAMP:20260422T145435
CREATED:20260121T233708Z
LAST-MODIFIED:20260121T233708Z
UID:1602-1782345600-1782431999@preventdrowningfoundation.org
SUMMARY:Worlds Largest Swim Lesson 2026
DESCRIPTION:
URL:https://preventdrowningfoundation.org/event/worlds-largest-swim-lesson-2026/
CATEGORIES:Swim Lessons,Water Safety Event
ATTACH;FMTTYPE=image/jpeg:https://preventdrowningfoundation.org/wp-content/uploads/2026/01/screenshot-2026-01-21-at-4.35.37-pm.jpg
END:VEVENT
BEGIN:VEVENT
DTSTART;TZID=America/Los_Angeles:20260701T080000
DTEND;TZID=America/Los_Angeles:20260701T170000
DTSTAMP:20260422T145435
CREATED:20260121T234021Z
LAST-MODIFIED:20260121T234317Z
UID:1605-1782892800-1782925200@preventdrowningfoundation.org
SUMMARY:SD Swims Fall Grants Due 2026
DESCRIPTION:
URL:https://preventdrowningfoundation.org/event/sd-swims-fall-grants-due/
CATEGORIES:Grants,Swim Lessons
ATTACH;FMTTYPE=image/png:https://preventdrowningfoundation.org/wp-content/uploads/2025/02/screenshot-2023-01-31-at-1.06.50-pm.png
END:VEVENT
BEGIN:VEVENT
DTSTART;VALUE=DATE:20260725
DTEND;VALUE=DATE:20260726
DTSTAMP:20260422T145435
CREATED:20260121T234856Z
LAST-MODIFIED:20260121T234856Z
UID:1614-1784937600-1785023999@preventdrowningfoundation.org
SUMMARY:World Drowning Prevention Day
DESCRIPTION:
URL:https://preventdrowningfoundation.org/event/world-drowning-prevention-day-3/
CATEGORIES:Water Safety Event
ATTACH;FMTTYPE=image/png:https://preventdrowningfoundation.org/wp-content/uploads/2026/01/screenshot-2026-01-21-at-4.48.10-pm.png
END:VEVENT
BEGIN:VEVENT
DTSTART;VALUE=DATE:20260912
DTEND;VALUE=DATE:20260913
DTSTAMP:20260422T145435
CREATED:20260121T235213Z
LAST-MODIFIED:20260121T235422Z
UID:1618-1789171200-1789257599@preventdrowningfoundation.org
SUMMARY:La Jolla Cove Swim
DESCRIPTION:
URL:https://preventdrowningfoundation.org/event/la-jolla-cove-swim/
CATEGORIES:Fundraising,Water Safety Event
ATTACH;FMTTYPE=image/jpeg:https://preventdrowningfoundation.org/wp-content/uploads/2026/01/screenshot-2026-01-21-at-4.54.07-pm.jpg
END:VEVENT
BEGIN:VEVENT
DTSTART;VALUE=DATE:20260927
DTEND;VALUE=DATE:20260928
DTSTAMP:20260422T145435
CREATED:20260121T233228Z
LAST-MODIFIED:20260121T233228Z
UID:1599-1790467200-1790553599@preventdrowningfoundation.org
SUMMARY:La Jolla Cove 10 Mile Relay
DESCRIPTION:
URL:https://preventdrowningfoundation.org/event/la-jolla-cove-10-mile-relay-3/
CATEGORIES:Fundraising
ATTACH;FMTTYPE=image/jpeg:https://preventdrowningfoundation.org/wp-content/uploads/2026/01/screenshot-2026-01-21-at-4.29.50-pm.jpg
END:VEVENT
END:VCALENDAR