BEGIN:VCALENDAR
VERSION:2.0
PRODID:-//Prevent Drowning Foundation of San Diego - ECPv6.15.20//NONSGML v1.0//EN
CALSCALE:GREGORIAN
METHOD:PUBLISH
X-WR-CALNAME:Prevent Drowning Foundation of San Diego
X-ORIGINAL-URL:https://preventdrowningfoundation.org
X-WR-CALDESC:Events for Prevent Drowning Foundation of San Diego
REFRESH-INTERVAL;VALUE=DURATION:PT1H
X-Robots-Tag:noindex
X-PUBLISHED-TTL:PT1H
BEGIN:VTIMEZONE
TZID:America/Los_Angeles
BEGIN:DAYLIGHT
TZOFFSETFROM:-0800
TZOFFSETTO:-0700
TZNAME:PDT
DTSTART:20230312T100000
END:DAYLIGHT
BEGIN:STANDARD
TZOFFSETFROM:-0700
TZOFFSETTO:-0800
TZNAME:PST
DTSTART:20231105T090000
END:STANDARD
BEGIN:DAYLIGHT
TZOFFSETFROM:-0800
TZOFFSETTO:-0700
TZNAME:PDT
DTSTART:20240310T100000
END:DAYLIGHT
BEGIN:STANDARD
TZOFFSETFROM:-0700
TZOFFSETTO:-0800
TZNAME:PST
DTSTART:20241103T090000
END:STANDARD
BEGIN:DAYLIGHT
TZOFFSETFROM:-0800
TZOFFSETTO:-0700
TZNAME:PDT
DTSTART:20250309T100000
END:DAYLIGHT
BEGIN:STANDARD
TZOFFSETFROM:-0700
TZOFFSETTO:-0800
TZNAME:PST
DTSTART:20251102T090000
END:STANDARD
END:VTIMEZONE
BEGIN:VEVENT
DTSTART;VALUE=DATE:20240725
DTEND;VALUE=DATE:20240726
DTSTAMP:20260424T131745
CREATED:20240124T035804Z
LAST-MODIFIED:20240605T184123Z
UID:1006-1721865600-1721951999@preventdrowningfoundation.org
SUMMARY:World Drowning Prevention Day
DESCRIPTION:In 2023\, the 76th World Health Assembly adopted its first ever resolution on drowning prevention. The resolution accepts the invitation of the United Nations General Assembly for WHO to coordinate actions within the UN system on drowning prevention and facilitate the observance of World Drowning Prevention Day on 25 July each year. \nTo mark this year’s World Drowning Prevention Day\, WHO will continue to focus on raising awareness on drowning as a public health issue\, reminding people that anyone can drown\, but no one should.
URL:https://preventdrowningfoundation.org/event/world-drowning-prevention-day/
CATEGORIES:Water Safety Event
ATTACH;FMTTYPE=image/jpeg:https://preventdrowningfoundation.org/wp-content/uploads/2023/07/1200x675-5-1.jpg
END:VEVENT
END:VCALENDAR